BEGIN:VCALENDAR
VERSION:2.0
PRODID:-//Dillard University - ECPv6.15.19//NONSGML v1.0//EN
CALSCALE:GREGORIAN
METHOD:PUBLISH
X-ORIGINAL-URL:https://www.dillard.edu
X-WR-CALDESC:Events for Dillard University
REFRESH-INTERVAL;VALUE=DURATION:PT1H
X-Robots-Tag:noindex
X-PUBLISHED-TTL:PT1H
BEGIN:VTIMEZONE
TZID:America/New_York
BEGIN:DAYLIGHT
TZOFFSETFROM:-0500
TZOFFSETTO:-0400
TZNAME:EDT
DTSTART:20230312T070000
END:DAYLIGHT
BEGIN:STANDARD
TZOFFSETFROM:-0400
TZOFFSETTO:-0500
TZNAME:EST
DTSTART:20231105T060000
END:STANDARD
BEGIN:DAYLIGHT
TZOFFSETFROM:-0500
TZOFFSETTO:-0400
TZNAME:EDT
DTSTART:20240310T070000
END:DAYLIGHT
BEGIN:STANDARD
TZOFFSETFROM:-0400
TZOFFSETTO:-0500
TZNAME:EST
DTSTART:20241103T060000
END:STANDARD
BEGIN:DAYLIGHT
TZOFFSETFROM:-0500
TZOFFSETTO:-0400
TZNAME:EDT
DTSTART:20250309T070000
END:DAYLIGHT
BEGIN:STANDARD
TZOFFSETFROM:-0400
TZOFFSETTO:-0500
TZNAME:EST
DTSTART:20251102T060000
END:STANDARD
END:VTIMEZONE
BEGIN:VTIMEZONE
TZID:America/Chicago
BEGIN:DAYLIGHT
TZOFFSETFROM:-0600
TZOFFSETTO:-0500
TZNAME:CDT
DTSTART:20230312T080000
END:DAYLIGHT
BEGIN:STANDARD
TZOFFSETFROM:-0500
TZOFFSETTO:-0600
TZNAME:CST
DTSTART:20231105T070000
END:STANDARD
BEGIN:DAYLIGHT
TZOFFSETFROM:-0600
TZOFFSETTO:-0500
TZNAME:CDT
DTSTART:20240310T080000
END:DAYLIGHT
BEGIN:STANDARD
TZOFFSETFROM:-0500
TZOFFSETTO:-0600
TZNAME:CST
DTSTART:20241103T070000
END:STANDARD
BEGIN:DAYLIGHT
TZOFFSETFROM:-0600
TZOFFSETTO:-0500
TZNAME:CDT
DTSTART:20250309T080000
END:DAYLIGHT
BEGIN:STANDARD
TZOFFSETFROM:-0500
TZOFFSETTO:-0600
TZNAME:CST
DTSTART:20251102T070000
END:STANDARD
END:VTIMEZONE
BEGIN:VEVENT
DTSTART;VALUE=DATE:20240527
DTEND;VALUE=DATE:20240531
DTSTAMP:20260419T100252
CREATED:20230727T151131Z
LAST-MODIFIED:20231129T234621Z
UID:2974-1716768000-1717113599@www.dillard.edu
SUMMARY:Memorial Day Holiday
DESCRIPTION:
URL:https://www.dillard.edu/event/memorial-day-holiday/
CATEGORIES:Academic Calendar,Home
END:VEVENT
BEGIN:VEVENT
DTSTART;VALUE=DATE:20240528
DTEND;VALUE=DATE:20240628
DTSTAMP:20260419T100252
CREATED:20240424T220334Z
LAST-MODIFIED:20240424T220746Z
UID:23912-1716854400-1719532799@www.dillard.edu
SUMMARY:4-week Summer Term
DESCRIPTION:May 28 – June 27\, 2024: 4-week Summer term
URL:https://www.dillard.edu/event/4-week-summer-term/
CATEGORIES:Academic Calendar,Home
END:VEVENT
BEGIN:VEVENT
DTSTART;VALUE=DATE:20240528
DTEND;VALUE=DATE:20240713
DTSTAMP:20260419T100252
CREATED:20240424T220843Z
LAST-MODIFIED:20240424T221245Z
UID:23918-1716854400-1720828799@www.dillard.edu
SUMMARY:6-week Summer Term
DESCRIPTION:May 28 – July 12\, 2024: 6-week Summer term
URL:https://www.dillard.edu/event/6-week-summer-term-2024/
CATEGORIES:Academic Calendar,Home
END:VEVENT
BEGIN:VEVENT
DTSTART;VALUE=DATE:20240529
DTEND;VALUE=DATE:20240530
DTSTAMP:20260419T100252
CREATED:20230727T151328Z
LAST-MODIFIED:20231129T234602Z
UID:2976-1716940800-1717027199@www.dillard.edu
SUMMARY:Late Registration Ends
DESCRIPTION:myDU closes at 5:00 pm. \nLast day to Add/Drop a course without receiving a “W” on the transcript. \nSchedules are purged if holds are not satisfied.
URL:https://www.dillard.edu/event/late-registration-ends-summer2024/
CATEGORIES:Academic Calendar,Home
END:VEVENT
END:VCALENDAR