BEGIN:VCALENDAR
VERSION:2.0
PRODID:-//Dillard University - ECPv6.15.19//NONSGML v1.0//EN
CALSCALE:GREGORIAN
METHOD:PUBLISH
X-WR-CALNAME:Dillard University
X-ORIGINAL-URL:https://www.dillard.edu
X-WR-CALDESC:Events for Dillard University
REFRESH-INTERVAL;VALUE=DURATION:PT1H
X-Robots-Tag:noindex
X-PUBLISHED-TTL:PT1H
BEGIN:VTIMEZONE
TZID:America/Chicago
BEGIN:DAYLIGHT
TZOFFSETFROM:-0600
TZOFFSETTO:-0500
TZNAME:CDT
DTSTART:20230312T080000
END:DAYLIGHT
BEGIN:STANDARD
TZOFFSETFROM:-0500
TZOFFSETTO:-0600
TZNAME:CST
DTSTART:20231105T070000
END:STANDARD
BEGIN:DAYLIGHT
TZOFFSETFROM:-0600
TZOFFSETTO:-0500
TZNAME:CDT
DTSTART:20240310T080000
END:DAYLIGHT
BEGIN:STANDARD
TZOFFSETFROM:-0500
TZOFFSETTO:-0600
TZNAME:CST
DTSTART:20241103T070000
END:STANDARD
BEGIN:DAYLIGHT
TZOFFSETFROM:-0600
TZOFFSETTO:-0500
TZNAME:CDT
DTSTART:20250309T080000
END:DAYLIGHT
BEGIN:STANDARD
TZOFFSETFROM:-0500
TZOFFSETTO:-0600
TZNAME:CST
DTSTART:20251102T070000
END:STANDARD
END:VTIMEZONE
BEGIN:VEVENT
DTSTART;VALUE=DATE:20240528
DTEND;VALUE=DATE:20240713
DTSTAMP:20260421T110447
CREATED:20240424T220843Z
LAST-MODIFIED:20240424T221245Z
UID:23918-1716854400-1720828799@www.dillard.edu
SUMMARY:6-week Summer Term
DESCRIPTION:May 28 – July 12\, 2024: 6-week Summer term
URL:https://www.dillard.edu/event/6-week-summer-term-2024/
CATEGORIES:Academic Calendar,Home
END:VEVENT
BEGIN:VEVENT
DTSTART;TZID=America/Chicago:20240610T080000
DTEND;TZID=America/Chicago:20240719T160000
DTSTAMP:20260421T110447
CREATED:20240319T201322Z
LAST-MODIFIED:20240319T201322Z
UID:20222-1718006400-1721404800@www.dillard.edu
SUMMARY:A Pathway to Geoscience Education Using Drones
DESCRIPTION:A Pathway to Geoscience Education Using Drones \nThe goals of A Pathway to Geoscience Education Using Drones summer program are to build student’s interest and capacity to engage in a geoscience-focused STEM career pathway and to introduce drones and their relevance to understanding earth and geosciences. The program aims to motivate\, and increase the number of underrepresented minority students to major in earth science/geoscience and to empower students from diverse backgrounds with knowledge and skills to make geoscience decisions. \nThe objectives of A Pathway to Geoscience Education Using Drones summer program are to engage students with knowledge and understanding of the components of the earth system and to engage young people with their local natural landscapes and with their community. The program target is to train students in the use of drones and the application of technology to geosciences to focus early-stage undergraduates on solving local geoscience issues related to water quality\, pollution\, soil erosion\, natural resource management\, and hazard mitigation.  The program focused is to train students to employ evidence-based scientific reasoning\, to critically think about problems in earth science\, and to provide students with broad exposure to earth science/geoscience and environmental problems as well as training essential problem-solving skills.
URL:https://www.dillard.edu/event/geoscience-education-using-drones/
CATEGORIES:Academic Calendar,Home
END:VEVENT
BEGIN:VEVENT
DTSTART;TZID=America/Chicago:20240622T100000
DTEND;TZID=America/Chicago:20240622T140000
DTSTAMP:20260421T110447
CREATED:20240614T212724Z
LAST-MODIFIED:20240615T165321Z
UID:27803-1719050400-1719064800@www.dillard.edu
SUMMARY:Bleu Devil Days - Extended Hours
DESCRIPTION:Enroll Now!\nDillard University offering extended office hours June 15 – August 3 \nWednesdays\, 8 a.m. – 7 p.m.\nand\nSaturdays\, 10 a.m. – 2 p.m. \nIn Person – Rosenwald Hall \nWhat can you do? \n\nPay Tuition\nComplete Enrollment Application\nGet Help with FAFSA\nGet Financial Aid Assistance\n\n  \n 
URL:https://www.dillard.edu/event/bleu-devil-days-extended-office-hours/
CATEGORIES:Home
ATTACH;FMTTYPE=image/jpeg:https://www.dillard.edu/wp-content/uploads/bleu-devil-days-scaled.jpeg
END:VEVENT
END:VCALENDAR