BEGIN:VCALENDAR
VERSION:2.0
PRODID:-//Dillard University - ECPv6.15.20//NONSGML v1.0//EN
CALSCALE:GREGORIAN
METHOD:PUBLISH
X-ORIGINAL-URL:https://www.dillard.edu
X-WR-CALDESC:Events for Dillard University
REFRESH-INTERVAL;VALUE=DURATION:PT1H
X-Robots-Tag:noindex
X-PUBLISHED-TTL:PT1H
BEGIN:VTIMEZONE
TZID:America/Chicago
BEGIN:DAYLIGHT
TZOFFSETFROM:-0600
TZOFFSETTO:-0500
TZNAME:CDT
DTSTART:20230312T080000
END:DAYLIGHT
BEGIN:STANDARD
TZOFFSETFROM:-0500
TZOFFSETTO:-0600
TZNAME:CST
DTSTART:20231105T070000
END:STANDARD
BEGIN:DAYLIGHT
TZOFFSETFROM:-0600
TZOFFSETTO:-0500
TZNAME:CDT
DTSTART:20240310T080000
END:DAYLIGHT
BEGIN:STANDARD
TZOFFSETFROM:-0500
TZOFFSETTO:-0600
TZNAME:CST
DTSTART:20241103T070000
END:STANDARD
BEGIN:DAYLIGHT
TZOFFSETFROM:-0600
TZOFFSETTO:-0500
TZNAME:CDT
DTSTART:20250309T080000
END:DAYLIGHT
BEGIN:STANDARD
TZOFFSETFROM:-0500
TZOFFSETTO:-0600
TZNAME:CST
DTSTART:20251102T070000
END:STANDARD
END:VTIMEZONE
BEGIN:VEVENT
DTSTART;TZID=America/Chicago:20240814T080000
DTEND;TZID=America/Chicago:20240814T170000
DTSTAMP:20260425T094202
CREATED:20240701T153415Z
LAST-MODIFIED:20240701T204709Z
UID:28328-1723622400-1723654800@www.dillard.edu
SUMMARY:Student Orientation: SOAR Mandatory for All New\, Transfer and Readmitted Students
DESCRIPTION:Scholarship\, Opportunity\, Accountability\, and Responsibility (SOAR). SOAR is mandatory for all new\, transfer\, and readmitted students.
URL:https://www.dillard.edu/event/student-orientation-soar-2024/
CATEGORIES:Academic Calendar,Home
ATTACH;FMTTYPE=image/jpeg:https://www.dillard.edu/wp-content/uploads/Miss-Dillard-and-Mister-Dillard-April-2022_Final-4-1-scaled.jpg
END:VEVENT
BEGIN:VEVENT
DTSTART;TZID=America/Chicago:20240817T080000
DTEND;TZID=America/Chicago:20240817T170000
DTSTAMP:20260425T094202
CREATED:20240701T154317Z
LAST-MODIFIED:20240702T173040Z
UID:28334-1723881600-1723914000@www.dillard.edu
SUMMARY:Welcome Weekend - August 17 & 18
DESCRIPTION:Welcome Weekend – August 17 and 18\, 2024
URL:https://www.dillard.edu/event/welcome-weekend-2024/
CATEGORIES:Academic Calendar,Home
ATTACH;FMTTYPE=image/jpeg:https://www.dillard.edu/wp-content/uploads/2023/10/dillard-university-students-soar-week.jpg
END:VEVENT
END:VCALENDAR