BEGIN:VCALENDAR
VERSION:2.0
PRODID:-//Dillard University - ECPv6.15.19//NONSGML v1.0//EN
CALSCALE:GREGORIAN
METHOD:PUBLISH
X-ORIGINAL-URL:https://www.dillard.edu
X-WR-CALDESC:Events for Dillard University
REFRESH-INTERVAL;VALUE=DURATION:PT1H
X-Robots-Tag:noindex
X-PUBLISHED-TTL:PT1H
BEGIN:VTIMEZONE
TZID:America/Chicago
BEGIN:DAYLIGHT
TZOFFSETFROM:-0600
TZOFFSETTO:-0500
TZNAME:CDT
DTSTART:20240310T080000
END:DAYLIGHT
BEGIN:STANDARD
TZOFFSETFROM:-0500
TZOFFSETTO:-0600
TZNAME:CST
DTSTART:20241103T070000
END:STANDARD
BEGIN:DAYLIGHT
TZOFFSETFROM:-0600
TZOFFSETTO:-0500
TZNAME:CDT
DTSTART:20250309T080000
END:DAYLIGHT
BEGIN:STANDARD
TZOFFSETFROM:-0500
TZOFFSETTO:-0600
TZNAME:CST
DTSTART:20251102T070000
END:STANDARD
BEGIN:DAYLIGHT
TZOFFSETFROM:-0600
TZOFFSETTO:-0500
TZNAME:CDT
DTSTART:20260308T080000
END:DAYLIGHT
BEGIN:STANDARD
TZOFFSETFROM:-0500
TZOFFSETTO:-0600
TZNAME:CST
DTSTART:20261101T070000
END:STANDARD
END:VTIMEZONE
BEGIN:VEVENT
DTSTART;TZID=America/Chicago:20250324T080000
DTEND;TZID=America/Chicago:20250329T170000
DTSTAMP:20260421T050713
CREATED:20240703T203759Z
LAST-MODIFIED:20240703T203759Z
UID:28639-1742803200-1743267600@www.dillard.edu
SUMMARY:Senior Comprehensive Exams
DESCRIPTION:Senior Comprehensive Exams – March 24-29\, 2025
URL:https://www.dillard.edu/event/senior-comprehensive-exams-spring25/
CATEGORIES:Academic Calendar,Home
END:VEVENT
BEGIN:VEVENT
DTSTART;TZID=America/Chicago:20250329T100000
DTEND;TZID=America/Chicago:20250329T163000
DTSTAMP:20260421T050713
CREATED:20250307T233714Z
LAST-MODIFIED:20250307T233714Z
UID:35463-1743242400-1743265800@www.dillard.edu
SUMMARY:17th Annual Housing\, Health & Community Resources Fair!
DESCRIPTION:Join us for the 17th Annual Housing\, Health & Community Resources Fair at Dillard University! This year’s theme is “Improving Health Through Music”—don’t miss out on valuable resources\, workshops\, and live jazz!\n\n\nDate: Saturday\, March 29\, 2025\nLocation: Professional Schools Building\, Dillard University\nAddress: 2601 Gentilly Blvd.\, New Orleans\, LA 70122\nExhibit Hall: 10:00 AM – 2:00 PM\nMid-day Jazz Session: 12:30 PM – 4:30 PM \nEvent Highlights: \n\nFree health screenings and HIV testing\nFree credit reports and credit counseling\nHealth insurance assistance (Medicaid and Medicare)\nFree smartphone/Android workshop\nFree grant writing workshop\nGuidance on certifying your business with the City of New Orleans\nAffordable homeowner insurance info\nDisaster risk and preparedness tips\nGrants for first-time homebuyers\nAnd much more for local artists!\n\nThis event is FREE and open to the public! \n\n Giveaways available!  \nFor more information\, contact Nick Harris at  504.473.1141 or  nharris@dillard.edu. \nCome out\, get informed\, and enjoy great music—see you there! 
URL:https://www.dillard.edu/event/housing-health-community-resources-fair/
CATEGORIES:Home
END:VEVENT
BEGIN:VEVENT
DTSTART;TZID=America/Chicago:20250329T100000
DTEND;TZID=America/Chicago:20250329T163000
DTSTAMP:20260421T050713
CREATED:20250324T152115Z
LAST-MODIFIED:20250324T152116Z
UID:35955-1743242400-1743265800@www.dillard.edu
SUMMARY:Dillard University  17th Annual Housing\, Health & Community Resources Fair
DESCRIPTION:Dillard University and the @@no_musicians_clinic invite you to the 17th Annual Housing\, Health & Community Resources Fair on Saturday\, March 29\, 2025. \nFree Exhibit Hall | Live Jazz Concert | Giveaways and More \n10:00 AM–2:00 PM | Resources\, Screenings\, and Workshops\n12:30 PM–4:30 PM | Mid-Day Jazz Concert featuring Sharon Martin\, Nayda Cojoe\, Kenneth Hagans Brass Band\, and more \nLocation: Dillard University Professional Schools Building & Georges Auditorium\nThis event is free and open to the public. \nLet’s build a healthier\, more connected New Orleans—together. \n\nDownload Brochure >>> 
URL:https://www.dillard.edu/event/dillard-university-17th-annual-housing-health-community-resources-fair/
CATEGORIES:Home
ATTACH;FMTTYPE=image/png:https://www.dillard.edu/wp-content/uploads/fair.png
END:VEVENT
END:VCALENDAR