BEGIN:VCALENDAR
VERSION:2.0
PRODID:-//Dillard University - ECPv6.15.19//NONSGML v1.0//EN
CALSCALE:GREGORIAN
METHOD:PUBLISH
X-WR-CALNAME:Dillard University
X-ORIGINAL-URL:https://www.dillard.edu
X-WR-CALDESC:Events for Dillard University
REFRESH-INTERVAL;VALUE=DURATION:PT1H
X-Robots-Tag:noindex
X-PUBLISHED-TTL:PT1H
BEGIN:VTIMEZONE
TZID:America/New_York
BEGIN:DAYLIGHT
TZOFFSETFROM:-0500
TZOFFSETTO:-0400
TZNAME:EDT
DTSTART:20230312T070000
END:DAYLIGHT
BEGIN:STANDARD
TZOFFSETFROM:-0400
TZOFFSETTO:-0500
TZNAME:EST
DTSTART:20231105T060000
END:STANDARD
BEGIN:DAYLIGHT
TZOFFSETFROM:-0500
TZOFFSETTO:-0400
TZNAME:EDT
DTSTART:20240310T070000
END:DAYLIGHT
BEGIN:STANDARD
TZOFFSETFROM:-0400
TZOFFSETTO:-0500
TZNAME:EST
DTSTART:20241103T060000
END:STANDARD
BEGIN:DAYLIGHT
TZOFFSETFROM:-0500
TZOFFSETTO:-0400
TZNAME:EDT
DTSTART:20250309T070000
END:DAYLIGHT
BEGIN:STANDARD
TZOFFSETFROM:-0400
TZOFFSETTO:-0500
TZNAME:EST
DTSTART:20251102T060000
END:STANDARD
END:VTIMEZONE
BEGIN:VTIMEZONE
TZID:America/Chicago
BEGIN:DAYLIGHT
TZOFFSETFROM:-0600
TZOFFSETTO:-0500
TZNAME:CDT
DTSTART:20230312T080000
END:DAYLIGHT
BEGIN:STANDARD
TZOFFSETFROM:-0500
TZOFFSETTO:-0600
TZNAME:CST
DTSTART:20231105T070000
END:STANDARD
BEGIN:DAYLIGHT
TZOFFSETFROM:-0600
TZOFFSETTO:-0500
TZNAME:CDT
DTSTART:20240310T080000
END:DAYLIGHT
BEGIN:STANDARD
TZOFFSETFROM:-0500
TZOFFSETTO:-0600
TZNAME:CST
DTSTART:20241103T070000
END:STANDARD
BEGIN:DAYLIGHT
TZOFFSETFROM:-0600
TZOFFSETTO:-0500
TZNAME:CDT
DTSTART:20250309T080000
END:DAYLIGHT
BEGIN:STANDARD
TZOFFSETFROM:-0500
TZOFFSETTO:-0600
TZNAME:CST
DTSTART:20251102T070000
END:STANDARD
END:VTIMEZONE
BEGIN:VEVENT
DTSTART;VALUE=DATE:20241103
DTEND;VALUE=DATE:20241112
DTSTAMP:20260422T090028
CREATED:20240424T231828Z
LAST-MODIFIED:20241008T150358Z
UID:23938-1730592000-1731369599@www.dillard.edu
SUMMARY:Homecoming Week!
DESCRIPTION:For full schedule and registration information\, visit dillard.edu/homecoming\n  \nHomecoming week is November 3 – 11\, 2024 \nVisit www.dillard.edu/homecoming for updates.
URL:https://www.dillard.edu/event/homecoming-2024/
CATEGORIES:Academic Calendar,Home
ATTACH;FMTTYPE=image/png:https://www.dillard.edu/wp-content/uploads/Save-the-Date-Homecoming24-.png
END:VEVENT
BEGIN:VEVENT
DTSTART;VALUE=DATE:20241108
DTEND;VALUE=DATE:20241109
DTSTAMP:20260422T090028
CREATED:20240702T172240Z
LAST-MODIFIED:20240702T172312Z
UID:28439-1731024000-1731110399@www.dillard.edu
SUMMARY:Last day to Withdraw with “W” Grade
DESCRIPTION:Last day to withdraw from Fall 2024 courses and the University with “W” grade.
URL:https://www.dillard.edu/event/last-day-to-withdraw-with-w-grade-fall24/
CATEGORIES:Academic Calendar,Home
END:VEVENT
BEGIN:VEVENT
DTSTART;TZID=America/Chicago:20241108T190000
DTEND;TZID=America/Chicago:20241108T190000
DTSTAMP:20260422T090028
CREATED:20240702T172551Z
LAST-MODIFIED:20240702T172613Z
UID:28441-1731092400-1731092400@www.dillard.edu
SUMMARY:Ortique Lecture
DESCRIPTION:Ortique Lecture – 7 p.m.
URL:https://www.dillard.edu/event/ortique-lecture-fall24/
CATEGORIES:Academic Calendar,Home
END:VEVENT
BEGIN:VEVENT
DTSTART;VALUE=DATE:20241118
DTEND;VALUE=DATE:20241123
DTSTAMP:20260422T090028
CREATED:20240702T172714Z
LAST-MODIFIED:20240702T172758Z
UID:28446-1731888000-1732319999@www.dillard.edu
SUMMARY:Assessment of the Course Experience Survey
DESCRIPTION:Assessment of the course experience survey administered.
URL:https://www.dillard.edu/event/assessment-of-the-course-experience-survey/
CATEGORIES:Academic Calendar,Home
END:VEVENT
BEGIN:VEVENT
DTSTART;TZID=America/Chicago:20241122T080000
DTEND;TZID=America/Chicago:20241122T170000
DTSTAMP:20260422T090028
CREATED:20240702T173505Z
LAST-MODIFIED:20240702T173505Z
UID:28452-1732262400-1732294800@www.dillard.edu
SUMMARY:Fall 2024 Community Service Hours Due
DESCRIPTION:Fall 2024 community service hours due in the University Chaplain’s office.
URL:https://www.dillard.edu/event/fall-2024-community-service-hours-due/
CATEGORIES:Academic Calendar,Home
END:VEVENT
BEGIN:VEVENT
DTSTART;TZID=America/Chicago:20241122T080000
DTEND;TZID=America/Chicago:20241122T170000
DTSTAMP:20260422T090028
CREATED:20240702T173750Z
LAST-MODIFIED:20240702T173750Z
UID:28454-1732262400-1732294800@www.dillard.edu
SUMMARY:Life After Dillard Requirements Due
DESCRIPTION:Life After Dillard requirements due in the Career and Professional Development office for Fall 2024 degree conferral.
URL:https://www.dillard.edu/event/life-after-dillard-requirements-due-fall24/
CATEGORIES:Academic Calendar,Home
END:VEVENT
BEGIN:VEVENT
DTSTART;VALUE=DATE:20241125
DTEND;VALUE=DATE:20241202
DTSTAMP:20260422T090028
CREATED:20240424T232459Z
LAST-MODIFIED:20240702T174343Z
UID:23940-1732492800-1733097599@www.dillard.edu
SUMMARY:Thanksgiving Break\, No Classes
DESCRIPTION:Thanksgiving break. No classes. November 24 – December 1\, 2024
URL:https://www.dillard.edu/event/thanksgiving-break-2024/
CATEGORIES:Academic Calendar,Home
END:VEVENT
END:VCALENDAR